{"text_format":"1","workbook":"xlsx","n_sheets":7,"sheets":["Лицевой","2 часть","3 часть 2017","3 часть 2018","3 часть 2019","4 часть","5 часть"],"not_rendered":{"charts":0,"images":0,"macros":0,"external_links":1,"defined_names":32,"comments":4,"pivot_tables":0},"unopened":[],"bounds":{"document_bytes":16777216,"sheet_cells":100000,"rows_first":2000,"rows_last":500,"rows_between":2000,"halvings":0,"cell_chars":16384,"cell_head_chars":4096},"cells_cut":0,"cells_raw":0,"read":"whole","date_system":"1900"}

{"sheet":"Лицевой","index":0,"n_rows":73,"n_cols":32,"rows_kept":73,"cut":false,"hidden":false,"merged":[[41,0,41,19],[34,0,34,19],[37,0,37,19],[38,0,38,19],[40,0,40,19],[36,0,36,19],[35,0,35,19],[51,0,51,19],[42,0,42,19],[45,0,45,19],[47,0,47,19],[48,0,48,19],[43,0,43,19],[49,0,49,19],[50,0,50,19],[44,0,44,19],[22,18,22,19],[18,18,18,19],[15,18,15,19],[20,0,20,15],[21,0,21,15],[16,16,16,17],[17,12,17,13],[19,18,19,19],[21,18,21,19],[22,3,22,8],[16,18,16,19],[17,18,17,19],[17,14,17,15],[20,18,20,19],[17,16,17,17],[20,16,20,17],[33,0,33,19],[29,0,29,19],[24,18,24,19],[23,18,23,19],[23,16,23,17],[32,0,32,19],[26,18,26,19],[25,18,25,19],[27,0,27,15],[26,3,26,15],[25,0,25,15],[31,0,31,19],[24,0,24,15]]}
[null,null,null,null,null,null,null,null,null,null,null,null,null,null,null,null,null,null,null,null,null,null,null,"№ п/п","Наименование учреждения","адрес","ОКПО","БК","под-раздел","целевой статьи","вид расхода","Имя"]
[null,null,null,null,null,null,null,null,null,null,null,null,null,null,null,null,null,null,null,null,null,null,null,{"$f":"#REF!","v":{"$error":"#REF!"}},{"$f":"#REF!","v":{"$error":"#REF!"}},{"$f":"#REF!","v":{"$error":"#REF!"}},{"$f":"#REF!","v":{"$error":"#REF!"}},{"$f":"#REF!","v":{"$error":"#REF!"}},{"$f":"#REF!","v":{"$error":"#REF!"}},{"$f":"#REF!","v":{"$error":"#REF!"}},{"$f":"#REF!","v":{"$error":"#REF!"}},{"$f":"#REF!","v":{"$error":"#REF!"}}]
[null,null,null,null,null,"      Заведующий муниципальным бюджетным дошкольным образовательным учреждением",null,null,null,null,null,null,null,null,null,null,null,null,null,null,null,null,null,{"$f":"#REF!","v":{"$error":"#REF!"}},{"$f":"#REF!","v":{"$error":"#REF!"}},{"$f":"#REF!","v":{"$error":"#REF!"}},{"$f":"#REF!","v":{"$error":"#REF!"}},{"$f":"#REF!","v":{"$error":"#REF!"}},{"$f":"#REF!","v":{"$error":"#REF!"}},{"$f":"#REF!","v":{"$error":"#REF!"}},{"$f":"#REF!","v":{"$error":"#REF!"}},{"$f":"#REF!","v":{"$error":"#REF!"}}]
[null,null,null,null,null,null,null,null,null,null,null,null,null,null,null,null,null,null,null,null,null,null,null,{"$f":"#REF!","v":{"$error":"#REF!"}},{"$f":"#REF!","v":{"$error":"#REF!"}},{"$f":"#REF!","v":{"$error":"#REF!"}},{"$f":"#REF!","v":{"$error":"#REF!"}},{"$f":"#REF!","v":{"$error":"#REF!"}},{"$f":"#REF!","v":{"$error":"#REF!"}},{"$f":"#REF!","v":{"$error":"#REF!"}},{"$f":"#REF!","v":{"$error":"#REF!"}},{"$f":"#REF!","v":{"$error":"#REF!"}}]
[null,null,null,null,null,null,null,null,"              \"Детский сад общеразвивающего вида  № 16\"",null,null,null,null,null,null,null,null,null,null,null,null,null,null,{"$f":"#REF!","v":{"$error":"#REF!"}},{"$f":"#REF!","v":{"$error":"#REF!"}},{"$f":"#REF!","v":{"$error":"#REF!"}},{"$f":"#REF!","v":{"$error":"#REF!"}},{"$f":"#REF!","v":{"$error":"#REF!"}},{"$f":"#REF!","v":{"$error":"#REF!"}},{"$f":"#REF!","v":{"$error":"#REF!"}},{"$f":"#REF!","v":{"$error":"#REF!"}},{"$f":"#REF!","v":{"$error":"#REF!"}}]
[null,null,null,null,null,null,null,null,null,null,null,null,null,null,null,null,null,null,null,null,null,null,null,{"$f":"#REF!","v":{"$error":"#REF!"}},{"$f":"#REF!","v":{"$error":"#REF!"}},{"$f":"#REF!","v":{"$error":"#REF!"}},{"$f":"#REF!","v":{"$error":"#REF!"}},{"$f":"#REF!","v":{"$error":"#REF!"}},{"$f":"#REF!","v":{"$error":"#REF!"}},{"$f":"#REF!","v":{"$error":"#REF!"}},{"$f":"#REF!","v":{"$error":"#REF!"}},{"$f":"#REF!","v":{"$error":"#REF!"}}]
[null,null,null,null,null,null,null,null,null,null,null,null,null,null,"         Филонова Е.Е.",null,null,null,null,null,null,null,null,{"$f":"#REF!","v":{"$error":"#REF!"}},{"$f":"#REF!","v":{"$error":"#REF!"}},{"$f":"#REF!","v":{"$error":"#REF!"}},{"$f":"#REF!","v":{"$error":"#REF!"}},{"$f":"#REF!","v":{"$error":"#REF!"}},{"$f":"#REF!","v":{"$error":"#REF!"}},{"$f":"#REF!","v":{"$error":"#REF!"}},{"$f":"#REF!","v":{"$error":"#REF!"}},{"$f":"#REF!","v":{"$error":"#REF!"}}]
[null,null,null,null,null,null,null,null,null,null,null,null,null,null,null,null,null,null,null,null,null,null,null,{"$f":"#REF!","v":{"$error":"#REF!"}},{"$f":"#REF!","v":{"$error":"#REF!"}},{"$f":"#REF!","v":{"$error":"#REF!"}},{"$f":"#REF!","v":{"$error":"#REF!"}},{"$f":"#REF!","v":{"$error":"#REF!"}},{"$f":"#REF!","v":{"$error":"#REF!"}},{"$f":"#REF!","v":{"$error":"#REF!"}},{"$f":"#REF!","v":{"$error":"#REF!"}},{"$f":"#REF!","v":{"$error":"#REF!"}}]
[null,null,null,null,null,null,null,null,null,null,null,null,null,null,null,null,null,null,null,null,null,null,null,{"$f":"#REF!","v":{"$error":"#REF!"}},{"$f":"#REF!","v":{"$error":"#REF!"}},{"$f":"#REF!","v":{"$error":"#REF!"}},{"$f":"#REF!","v":{"$error":"#REF!"}},{"$f":"#REF!","v":{"$error":"#REF!"}},{"$f":"#REF!","v":{"$error":"#REF!"}},{"$f":"#REF!","v":{"$error":"#REF!"}},{"$f":"#REF!","v":{"$error":"#REF!"}},{"$f":"#REF!","v":{"$error":"#REF!"}}]
[null,null,null,null,null,null,null,null,null,null,null,null,null,null,null,null,null,null,null,null,null,null,null,{"$f":"#REF!","v":{"$error":"#REF!"}},{"$f":"#REF!","v":{"$error":"#REF!"}},{"$f":"#REF!","v":{"$error":"#REF!"}},{"$f":"#REF!","v":{"$error":"#REF!"}},{"$f":"#REF!","v":{"$error":"#REF!"}},{"$f":"#REF!","v":{"$error":"#REF!"}},{"$f":"#REF!","v":{"$error":"#REF!"}},{"$f":"#REF!","v":{"$error":"#REF!"}},{"$f":"#REF!","v":{"$error":"#REF!"}}]
[null,null,null,null,null,null,null,null,null,null,null,null,null,null,null,null,null,null,null,null,null,null,null,{"$f":"#REF!","v":{"$error":"#REF!"}},{"$f":"#REF!","v":{"$error":"#REF!"}},{"$f":"#REF!","v":{"$error":"#REF!"}},{"$f":"#REF!","v":{"$error":"#REF!"}},{"$f":"#REF!","v":{"$error":"#REF!"}},{"$f":"#REF!","v":{"$error":"#REF!"}},{"$f":"#REF!","v":{"$error":"#REF!"}},{"$f":"#REF!","v":{"$error":"#REF!"}},{"$f":"#REF!","v":{"$error":"#REF!"}}]
[null,null,null,null,null,null,null,null,null,null,null,null,null,null,null,null,null,null,null,null,null,null,null,{"$f":"#REF!","v":{"$error":"#REF!"}},{"$f":"#REF!","v":{"$error":"#REF!"}},{"$f":"#REF!","v":{"$error":"#REF!"}},{"$f":"#REF!","v":{"$error":"#REF!"}},{"$f":"#REF!","v":{"$error":"#REF!"}},{"$f":"#REF!","v":{"$error":"#REF!"}},{"$f":"#REF!","v":{"$error":"#REF!"}},{"$f":"#REF!","v":{"$error":"#REF!"}},{"$f":"#REF!","v":{"$error":"#REF!"}}]
[null,null,null,null,null,null,null,null,null,null,null,null,null,null,null,null,null,null,null,null,null,null,null,{"$f":"#REF!","v":{"$error":"#REF!"}},{"$f":"#REF!","v":{"$error":"#REF!"}},{"$f":"#REF!","v":{"$error":"#REF!"}},{"$f":"#REF!","v":{"$error":"#REF!"}},{"$f":"#REF!","v":{"$error":"#REF!"}},{"$f":"#REF!","v":{"$error":"#REF!"}},{"$f":"#REF!","v":{"$error":"#REF!"}},{"$f":"#REF!","v":{"$error":"#REF!"}},{"$f":"#REF!","v":{"$error":"#REF!"}}]
[null,null,null,null,null,null,null,null,null,null,null,null,null,null,null,null,null,null,null,null,null,null,null,{"$f":"#REF!","v":{"$error":"#REF!"}},{"$f":"#REF!","v":{"$error":"#REF!"}},{"$f":"#REF!","v":{"$error":"#REF!"}},{"$f":"#REF!","v":{"$error":"#REF!"}},{"$f":"#REF!","v":{"$error":"#REF!"}},{"$f":"#REF!","v":{"$error":"#REF!"}},{"$f":"#REF!","v":{"$error":"#REF!"}},{"$f":"#REF!","v":{"$error":"#REF!"}},{"$f":"#REF!","v":{"$error":"#REF!"}}]
[null,null,null,null,null,null,null,null,null,null,null,null,null,null,null,null,null,null,null,null,null,null,null,{"$f":"#REF!","v":{"$error":"#REF!"}},{"$f":"#REF!","v":{"$error":"#REF!"}},{"$f":"#REF!","v":{"$error":"#REF!"}},{"$f":"#REF!","v":{"$error":"#REF!"}},{"$f":"#REF!","v":{"$error":"#REF!"}},{"$f":"#REF!","v":{"$error":"#REF!"}},{"$f":"#REF!","v":{"$error":"#REF!"}},{"$f":"#REF!","v":{"$error":"#REF!"}},{"$f":"#REF!","v":{"$error":"#REF!"}}]
[null,null,null,null,null,null,null,null,null,null,null,null,null,null,null,null,null,null,"КОДЫ",null,null,null,null,{"$f":"#REF!","v":{"$error":"#REF!"}},{"$f":"#REF!","v":{"$error":"#REF!"}},{"$f":"#REF!","v":{"$error":"#REF!"}},{"$f":"#REF!","v":{"$error":"#REF!"}},{"$f":"#REF!","v":{"$error":"#REF!"}},{"$f":"#REF!","v":{"$error":"#REF!"}},{"$f":"#REF!","v":{"$error":"#REF!"}},{"$f":"#REF!","v":{"$error":"#REF!"}},{"$f":"#REF!","v":{"$error":"#REF!"}}]
[null,null,null,null,null,null,null,null,null,null,null,null,null,null,null,null,"Форма \nпо КФД",null,null,null,null,null,null,{"$f":"#REF!","v":{"$error":"#REF!"}},{"$f":"#REF!","v":{"$error":"#REF!"}},{"$f":"#REF!","v":{"$error":"#REF!"}},{"$f":"#REF!","v":{"$error":"#REF!"}},{"$f":"#REF!","v":{"$error":"#REF!"}},{"$f":"#REF!","v":{"$error":"#REF!"}},{"$f":"#REF!","v":{"$error":"#REF!"}},{"$f":"#REF!","v":{"$error":"#REF!"}},{"$f":"#REF!","v":{"$error":"#REF!"}}]
[null,null,null,null,null,null,null,null,null,null,"от",31,"января",null,"2017 г",null,"Дата",null,"2017-01-31",null,null,null,null,{"$f":"#REF!","v":{"$error":"#REF!"}},{"$f":"#REF!","v":{"$error":"#REF!"}},{"$f":"#REF!","v":{"$error":"#REF!"}},{"$f":"#REF!","v":{"$error":"#REF!"}},{"$f":"#REF!","v":{"$error":"#REF!"}},{"$f":"#REF!","v":{"$error":"#REF!"}},{"$f":"#REF!","v":{"$error":"#REF!"}},{"$f":"#REF!","v":{"$error":"#REF!"}},{"$f":"#REF!","v":{"$error":"#REF!"}}]
[null,null,null,null,null,null,null,null,null,null,null,null,null,null,null,null,null,null,null,null,null,null,null,{"$f":"#REF!","v":{"$error":"#REF!"}},{"$f":"#REF!","v":{"$error":"#REF!"}},{"$f":"#REF!","v":{"$error":"#REF!"}},{"$f":"#REF!","v":{"$error":"#REF!"}},{"$f":"#REF!","v":{"$error":"#REF!"}},{"$f":"#REF!","v":{"$error":"#REF!"}},{"$f":"#REF!","v":{"$error":"#REF!"}},{"$f":"#REF!","v":{"$error":"#REF!"}},{"$f":"#REF!","v":{"$error":"#REF!"}}]
[null,null,null,null,null,null,null,null,null,null,null,null,null,null,null,null,null,null,null,null,null,null,null,{"$f":"#REF!","v":{"$error":"#REF!"}},{"$f":"#REF!","v":{"$error":"#REF!"}},{"$f":"#REF!","v":{"$error":"#REF!"}},{"$f":"#REF!","v":{"$error":"#REF!"}},{"$f":"#REF!","v":{"$error":"#REF!"}},{"$f":"#REF!","v":{"$error":"#REF!"}},{"$f":"#REF!","v":{"$error":"#REF!"}},{"$f":"#REF!","v":{"$error":"#REF!"}},{"$f":"#REF!","v":{"$error":"#REF!"}}]
["МБДОУ «Детский сад общеразвивающего вида № 16»",null,null,null,null,null,null,null,null,null,null,null,null,null,null,null,"по ОКПО",null,59998413,null,null,null,null,{"$f":"#REF!","v":{"$error":"#REF!"}},{"$f":"#REF!","v":{"$error":"#REF!"}},{"$f":"#REF!","v":{"$error":"#REF!"}},{"$f":"#REF!","v":{"$error":"#REF!"}},{"$f":"#REF!","v":{"$error":"#REF!"}},{"$f":"#REF!","v":{"$error":"#REF!"}},{"$f":"#REF!","v":{"$error":"#REF!"}},{"$f":"#REF!","v":{"$error":"#REF!"}},{"$f":"#REF!","v":{"$error":"#REF!"}}]
["(наименование муниципального бюджетного учреждения)",null,null,null,null,null,null,null,null,null,null,null,null,null,null,null,null,null,null,null,null,null,null,{"$f":"#REF!","v":{"$error":"#REF!"}},{"$f":"#REF!","v":{"$error":"#REF!"}},{"$f":"#REF!","v":{"$error":"#REF!"}},{"$f":"#REF!","v":{"$error":"#REF!"}},{"$f":"#REF!","v":{"$error":"#REF!"}},{"$f":"#REF!","v":{"$error":"#REF!"}},{"$f":"#REF!","v":{"$error":"#REF!"}},{"$f":"#REF!","v":{"$error":"#REF!"}},{"$f":"#REF!","v":{"$error":"#REF!"}}]
["ИНН / КПП",null,null,"7116006484/711601001",null,null,null,null,null,null,null,null,null,null,null,null,null,null,null,null,null,null,null,{"$f":"#REF!","v":{"$error":"#REF!"}},{"$f":"#REF!","v":{"$error":"#REF!"}},{"$f":"#REF!","v":{"$error":"#REF!"}},{"$f":"#REF!","v":{"$error":"#REF!"}},{"$f":"#REF!","v":{"$error":"#REF!"}},{"$f":"#REF!","v":{"$error":"#REF!"}},{"$f":"#REF!","v":{"$error":"#REF!"}},{"$f":"#REF!","v":{"$error":"#REF!"}},{"$f":"#REF!","v":{"$error":"#REF!"}}]
["Единица измерения: рубли",null,null,null,null,null,null,null,null,null,null,null,null,null,null,null,"по ОКЕИ",null,383,null,null,null,null,{"$f":"#REF!","v":{"$error":"#REF!"}},{"$f":"#REF!","v":{"$error":"#REF!"}},{"$f":"#REF!","v":{"$error":"#REF!"}},{"$f":"#REF!","v":{"$error":"#REF!"}},{"$f":"#REF!","v":{"$error":"#REF!"}},{"$f":"#REF!","v":{"$error":"#REF!"}},{"$f":"#REF!","v":{"$error":"#REF!"}},{"$f":"#REF!","v":{"$error":"#REF!"}},{"$f":"#REF!","v":{"$error":"#REF!"}}]
["Комитет по образованию  администрации муниципального образования город Новомосковск",null,null,null,null,null,null,null,null,null,null,null,null,null,null,null,null,null,null,null,null,null,null,{"$f":"#REF!","v":{"$error":"#REF!"}},{"$f":"#REF!","v":{"$error":"#REF!"}},{"$f":"#REF!","v":{"$error":"#REF!"}},{"$f":"#REF!","v":{"$error":"#REF!"}},{"$f":"#REF!","v":{"$error":"#REF!"}},{"$f":"#REF!","v":{"$error":"#REF!"}},{"$f":"#REF!","v":{"$error":"#REF!"}},{"$f":"#REF!","v":{"$error":"#REF!"}},{"$f":"#REF!","v":{"$error":"#REF!"}}]
["(наименование отраслевого органа администрации)",null,null,null,null,null,null,null,null,null,null,null,null,null,null,null,null,null,null,null,null,null,null,{"$f":"#REF!","v":{"$error":"#REF!"}},{"$f":"#REF!","v":{"$error":"#REF!"}},{"$f":"#REF!","v":{"$error":"#REF!"}},{"$f":"#REF!","v":{"$error":"#REF!"}},{"$f":"#REF!","v":{"$error":"#REF!"}},{"$f":"#REF!","v":{"$error":"#REF!"}},{"$f":"#REF!","v":{"$error":"#REF!"}},{"$f":"#REF!","v":{"$error":"#REF!"}},{"$f":"#REF!","v":{"$error":"#REF!"}}]
["Тульская область",null,null,"г. Новомосковск, ул. Депо, д. 21А",null,null,null,null,null,null,null,null,null,null,null,null,null,null,null,null,null,null,null,{"$f":"#REF!","v":{"$error":"#REF!"}},{"$f":"#REF!","v":{"$error":"#REF!"}},{"$f":"#REF!","v":{"$error":"#REF!"}},{"$f":"#REF!","v":{"$error":"#REF!"}},{"$f":"#REF!","v":{"$error":"#REF!"}},{"$f":"#REF!","v":{"$error":"#REF!"}},{"$f":"#REF!","v":{"$error":"#REF!"}},{"$f":"#REF!","v":{"$error":"#REF!"}},{"$f":"#REF!","v":{"$error":"#REF!"}}]
["(адрес фактического местонахождения муниципального бюджетного учреждения)",null,null,null,null,null,null,null,null,null,null,null,null,null,null,null,null,null,null,null,null,null,null,{"$f":"#REF!","v":{"$error":"#REF!"}},{"$f":"#REF!","v":{"$error":"#REF!"}},{"$f":"#REF!","v":{"$error":"#REF!"}},{"$f":"#REF!","v":{"$error":"#REF!"}},{"$f":"#REF!","v":{"$error":"#REF!"}},{"$f":"#REF!","v":{"$error":"#REF!"}},{"$f":"#REF!","v":{"$error":"#REF!"}},{"$f":"#REF!","v":{"$error":"#REF!"}},{"$f":"#REF!","v":{"$error":"#REF!"}}]
[null,null,null,null,null,null,null,null,null,null,null,null,null,null,null,null,null,null,null,null,null,null,null,{"$f":"#REF!","v":{"$error":"#REF!"}},{"$f":"#REF!","v":{"$error":"#REF!"}},{"$f":"#REF!","v":{"$error":"#REF!"}},{"$f":"#REF!","v":{"$error":"#REF!"}},{"$f":"#REF!","v":{"$error":"#REF!"}},{"$f":"#REF!","v":{"$error":"#REF!"}},{"$f":"#REF!","v":{"$error":"#REF!"}},{"$f":"#REF!","v":{"$error":"#REF!"}},{"$f":"#REF!","v":{"$error":"#REF!"}}]
["I. Сведения о деятельности муниципального бюджетного учреждения",null,null,null,null,null,null,null,null,null,null,null,null,null,null,null,null,null,null,null,null,null,null,{"$f":"#REF!","v":{"$error":"#REF!"}},{"$f":"#REF!","v":{"$error":"#REF!"}},{"$f":"#REF!","v":{"$error":"#REF!"}},{"$f":"#REF!","v":{"$error":"#REF!"}},{"$f":"#REF!","v":{"$error":"#REF!"}},{"$f":"#REF!","v":{"$error":"#REF!"}},{"$f":"#REF!","v":{"$error":"#REF!"}},{"$f":"#REF!","v":{"$error":"#REF!"}},{"$f":"#REF!","v":{"$error":"#REF!"}}]
["1.1. Цели деятельности муниципального бюджетного учреждения:",null,null,null,null,null,null,null,null,null,null,null,null,null,null,null,null,null,null,null,null,null,null,{"$f":"#REF!","v":{"$error":"#REF!"}},{"$f":"#REF!","v":{"$error":"#REF!"}},{"$f":"#REF!","v":{"$error":"#REF!"}},{"$f":"#REF!","v":{"$error":"#REF!"}},{"$f":"#REF!","v":{"$error":"#REF!"}},{"$f":"#REF!","v":{"$error":"#REF!"}},{"$f":"#REF!","v":{"$error":"#REF!"}},{"$f":"#REF!","v":{"$error":"#REF!"}},{"$f":"#REF!","v":{"$error":"#REF!"}}]
["основной деятельностью учреждения является осуществление",null,null,null,null,null,null,null,null,null,null,null,null,null,null,null,null,null,null,null,null,null,null,{"$f":"#REF!","v":{"$error":"#REF!"}},{"$f":"#REF!","v":{"$error":"#REF!"}},{"$f":"#REF!","v":{"$error":"#REF!"}},{"$f":"#REF!","v":{"$error":"#REF!"}},{"$f":"#REF!","v":{"$error":"#REF!"}},{"$f":"#REF!","v":{"$error":"#REF!"}},{"$f":"#REF!","v":{"$error":"#REF!"}},{"$f":"#REF!","v":{"$error":"#REF!"}},{"$f":"#REF!","v":{"$error":"#REF!"}}]
["образовательной деятельности по образовательным программам ",null,null,null,null,null,null,null,null,null,null,null,null,null,null,null,null,null,null,null,null,null,null,{"$f":"#REF!","v":{"$error":"#REF!"}},{"$f":"#REF!","v":{"$error":"#REF!"}},{"$f":"#REF!","v":{"$error":"#REF!"}},{"$f":"#REF!","v":{"$error":"#REF!"}},{"$f":"#REF!","v":{"$error":"#REF!"}},{"$f":"#REF!","v":{"$error":"#REF!"}},{"$f":"#REF!","v":{"$error":"#REF!"}},{"$f":"#REF!","v":{"$error":"#REF!"}},{"$f":"#REF!","v":{"$error":"#REF!"}}]
["дошкольного образования",null,null,null,null,null,null,null,null,null,null,null,null,null,null,null,null,null,null,null,null,null,null,{"$f":"#REF!","v":{"$error":"#REF!"}},{"$f":"#REF!","v":{"$error":"#REF!"}},{"$f":"#REF!","v":{"$error":"#REF!"}},{"$f":"#REF!","v":{"$error":"#REF!"}},{"$f":"#REF!","v":{"$error":"#REF!"}},{"$f":"#REF!","v":{"$error":"#REF!"}},{"$f":"#REF!","v":{"$error":"#REF!"}},{"$f":"#REF!","v":{"$error":"#REF!"}},{"$f":"#REF!","v":{"$error":"#REF!"}}]
[null,null,null,null,null,null,null,null,null,null,null,null,null,null,null,null,null,null,null,null,null,null,null,{"$f":"#REF!","v":{"$error":"#REF!"}},{"$f":"#REF!","v":{"$error":"#REF!"}},{"$f":"#REF!","v":{"$error":"#REF!"}},{"$f":"#REF!","v":{"$error":"#REF!"}},{"$f":"#REF!","v":{"$error":"#REF!"}},{"$f":"#REF!","v":{"$error":"#REF!"}},{"$f":"#REF!","v":{"$error":"#REF!"}},{"$f":"#REF!","v":{"$error":"#REF!"}},{"$f":"#REF!","v":{"$error":"#REF!"}}]
[null,null,null,null,null,null,null,null,null,null,null,null,null,null,null,null,null,null,null,null,null,null,null,{"$f":"#REF!","v":{"$error":"#REF!"}},{"$f":"#REF!","v":{"$error":"#REF!"}},{"$f":"#REF!","v":{"$error":"#REF!"}},{"$f":"#REF!","v":{"$error":"#REF!"}},{"$f":"#REF!","v":{"$error":"#REF!"}},{"$f":"#REF!","v":{"$error":"#REF!"}},{"$f":"#REF!","v":{"$error":"#REF!"}},{"$f":"#REF!","v":{"$error":"#REF!"}},{"$f":"#REF!","v":{"$error":"#REF!"}}]
[null,null,null,null,null,null,null,null,null,null,null,null,null,null,null,null,null,null,null,null,null,null,null,{"$f":"#REF!","v":{"$error":"#REF!"}},{"$f":"#REF!","v":{"$error":"#REF!"}},{"$f":"#REF!","v":{"$error":"#REF!"}},{"$f":"#REF!","v":{"$error":"#REF!"}},{"$f":"#REF!","v":{"$error":"#REF!"}},{"$f":"#REF!","v":{"$error":"#REF!"}},{"$f":"#REF!","v":{"$error":"#REF!"}},{"$f":"#REF!","v":{"$error":"#REF!"}},{"$f":"#REF!","v":{"$error":"#REF!"}}]
[null,null,null,null,null,null,null,null,null,null,null,null,null,null,null,null,null,null,null,null,null,null,null,{"$f":"#REF!","v":{"$error":"#REF!"}},{"$f":"#REF!","v":{"$error":"#REF!"}},{"$f":"#REF!","v":{"$error":"#REF!"}},{"$f":"#REF!","v":{"$error":"#REF!"}},{"$f":"#REF!","v":{"$error":"#REF!"}},{"$f":"#REF!","v":{"$error":"#REF!"}},{"$f":"#REF!","v":{"$error":"#REF!"}},{"$f":"#REF!","v":{"$error":"#REF!"}},{"$f":"#REF!","v":{"$error":"#REF!"}}]
[null,null,null,null,null,null,null,null,null,null,null,null,null,null,null,null,null,null,null,null,null,null,null,{"$f":"#REF!","v":{"$error":"#REF!"}},{"$f":"#REF!","v":{"$error":"#REF!"}},{"$f":"#REF!","v":{"$error":"#REF!"}},{"$f":"#REF!","v":{"$error":"#REF!"}},{"$f":"#REF!","v":{"$error":"#REF!"}},{"$f":"#REF!","v":{"$error":"#REF!"}},{"$f":"#REF!","v":{"$error":"#REF!"}},{"$f":"#REF!","v":{"$error":"#REF!"}},{"$f":"#REF!","v":{"$error":"#REF!"}}]
["1.2. Виды деятельности муниципального бюджетного учреждения:",null,null,null,null,null,null,null,null,null,null,null,null,null,null,null,null,null,null,null,null,null,null,{"$f":"#REF!","v":{"$error":"#REF!"}},{"$f":"#REF!","v":{"$error":"#REF!"}},{"$f":"#REF!","v":{"$error":"#REF!"}},{"$f":"#REF!","v":{"$error":"#REF!"}},{"$f":"#REF!","v":{"$error":"#REF!"}},{"$f":"#REF!","v":{"$error":"#REF!"}},{"$f":"#REF!","v":{"$error":"#REF!"}},{"$f":"#REF!","v":{"$error":"#REF!"}},{"$f":"#REF!","v":{"$error":"#REF!"}}]
["основными видами деятельности учреждения являются: дошкольное образование, предоставление услуг по ",null,null,null,null,null,null,null,null,null,null,null,null,null,null,null,null,null,null,null,null,null,null,{"$f":"#REF!","v":{"$error":"#REF!"}},{"$f":"#REF!","v":{"$error":"#REF!"}},{"$f":"#REF!","v":{"$error":"#REF!"}},{"$f":"#REF!","v":{"$error":"#REF!"}},{"$f":"#REF!","v":{"$error":"#REF!"}},{"$f":"#REF!","v":{"$error":"#REF!"}},{"$f":"#REF!","v":{"$error":"#REF!"}},{"$f":"#REF!","v":{"$error":"#REF!"}},{"$f":"#REF!","v":{"$error":"#REF!"}}]
["дневному  уходу за детьми",null,null,null,null,null,null,null,null,null,null,null,null,null,null,null,null,null,null,null,null,null,null,{"$f":"#REF!","v":{"$error":"#REF!"}},{"$f":"#REF!","v":{"$error":"#REF!"}},{"$f":"#REF!","v":{"$error":"#REF!"}},{"$f":"#REF!","v":{"$error":"#REF!"}},{"$f":"#REF!","v":{"$error":"#REF!"}},{"$f":"#REF!","v":{"$error":"#REF!"}},{"$f":"#REF!","v":{"$error":"#REF!"}},{"$f":"#REF!","v":{"$error":"#REF!"}},{"$f":"#REF!","v":{"$error":"#REF!"}}]
[null,null,null,null,null,null,null,null,null,null,null,null,null,null,null,null,null,null,null,null,null,null,null,{"$f":"#REF!","v":{"$error":"#REF!"}},{"$f":"#REF!","v":{"$error":"#REF!"}},{"$f":"#REF!","v":{"$error":"#REF!"}},{"$f":"#REF!","v":{"$error":"#REF!"}},{"$f":"#REF!","v":{"$error":"#REF!"}},{"$f":"#REF!","v":{"$error":"#REF!"}},{"$f":"#REF!","v":{"$error":"#REF!"}},{"$f":"#REF!","v":{"$error":"#REF!"}},{"$f":"#REF!","v":{"$error":"#REF!"}}]
[null,null,null,null,null,null,null,null,null,null,null,null,null,null,null,null,null,null,null,null,null,null,null,{"$f":"#REF!","v":{"$error":"#REF!"}},{"$f":"#REF!","v":{"$error":"#REF!"}},{"$f":"#REF!","v":{"$error":"#REF!"}},{"$f":"#REF!","v":{"$error":"#REF!"}},{"$f":"#REF!","v":{"$error":"#REF!"}},{"$f":"#REF!","v":{"$error":"#REF!"}},{"$f":"#REF!","v":{"$error":"#REF!"}},{"$f":"#REF!","v":{"$error":"#REF!"}},{"$f":"#REF!","v":{"$error":"#REF!"}}]
[null,null,null,null,null,null,null,null,null,null,null,null,null,null,null,null,null,null,null,null,null,null,null,{"$f":"#REF!","v":{"$error":"#REF!"}},{"$f":"#REF!","v":{"$error":"#REF!"}},{"$f":"#REF!","v":{"$error":"#REF!"}},{"$f":"#REF!","v":{"$error":"#REF!"}},{"$f":"#REF!","v":{"$error":"#REF!"}},{"$f":"#REF!","v":{"$error":"#REF!"}},{"$f":"#REF!","v":{"$error":"#REF!"}},{"$f":"#REF!","v":{"$error":"#REF!"}},{"$f":"#REF!","v":{"$error":"#REF!"}}]
[null,null,null,null,null,null,null,null,null,null,null,null,null,null,null,null,null,null,null,null,null,null,null,{"$f":"#REF!","v":{"$error":"#REF!"}},{"$f":"#REF!","v":{"$error":"#REF!"}},{"$f":"#REF!","v":{"$error":"#REF!"}},{"$f":"#REF!","v":{"$error":"#REF!"}},{"$f":"#REF!","v":{"$error":"#REF!"}},{"$f":"#REF!","v":{"$error":"#REF!"}},{"$f":"#REF!","v":{"$error":"#REF!"}},{"$f":"#REF!","v":{"$error":"#REF!"}},{"$f":"#REF!","v":{"$error":"#REF!"}}]
["1.3. Перечень оказываемых услуг (выполняемых работ), осуществляемых на платной основе:",null,null,null,null,null,null,null,null,null,null,null,null,null,null,null,null,null,null,null,null,null,null,{"$f":"#REF!","v":{"$error":"#REF!"}},{"$f":"#REF!","v":{"$error":"#REF!"}},{"$f":"#REF!","v":{"$error":"#REF!"}},{"$f":"#REF!","v":{"$error":"#REF!"}},{"$f":"#REF!","v":{"$error":"#REF!"}},{"$f":"#REF!","v":{"$error":"#REF!"}},{"$f":"#REF!","v":{"$error":"#REF!"}},{"$f":"#REF!","v":{"$error":"#REF!"}},{"$f":"#REF!","v":{"$error":"#REF!"}}]
[null,null,null,null,null,null,null,null,null,null,null,null,null,null,null,null,null,null,null,null,null,null,null,{"$f":"#REF!","v":{"$error":"#REF!"}},{"$f":"#REF!","v":{"$error":"#REF!"}},{"$f":"#REF!","v":{"$error":"#REF!"}},{"$f":"#REF!","v":{"$error":"#REF!"}},{"$f":"#REF!","v":{"$error":"#REF!"}},{"$f":"#REF!","v":{"$error":"#REF!"}},{"$f":"#REF!","v":{"$error":"#REF!"}},{"$f":"#REF!","v":{"$error":"#REF!"}},{"$f":"#REF!","v":{"$error":"#REF!"}}]
[null,null,null,null,null,null,null,null,null,null,null,null,null,null,null,null,null,null,null,null,null,null,null,{"$f":"#REF!","v":{"$error":"#REF!"}},{"$f":"#REF!","v":{"$error":"#REF!"}},{"$f":"#REF!","v":{"$error":"#REF!"}},{"$f":"#REF!","v":{"$error":"#REF!"}},{"$f":"#REF!","v":{"$error":"#REF!"}},{"$f":"#REF!","v":{"$error":"#REF!"}},{"$f":"#REF!","v":{"$error":"#REF!"}},{"$f":"#REF!","v":{"$error":"#REF!"}},{"$f":"#REF!","v":{"$error":"#REF!"}}]
[null,null,null,null,null,null,null,null,null,null,null,null,null,null,null,null,null,null,null,null,null,null,null,{"$f":"#REF!","v":{"$error":"#REF!"}},{"$f":"#REF!","v":{"$error":"#REF!"}},{"$f":"#REF!","v":{"$error":"#REF!"}},{"$f":"#REF!","v":{"$error":"#REF!"}},{"$f":"#REF!","v":{"$error":"#REF!"}},{"$f":"#REF!","v":{"$error":"#REF!"}},{"$f":"#REF!","v":{"$error":"#REF!"}},{"$f":"#REF!","v":{"$error":"#REF!"}},{"$f":"#REF!","v":{"$error":"#REF!"}}]
[null,null,null,null,null,null,null,null,null,null,null,null,null,null,null,null,null,null,null,null,null,null,null,{"$f":"#REF!","v":{"$error":"#REF!"}},{"$f":"#REF!","v":{"$error":"#REF!"}},{"$f":"#REF!","v":{"$error":"#REF!"}},{"$f":"#REF!","v":{"$error":"#REF!"}},{"$f":"#REF!","v":{"$error":"#REF!"}},{"$f":"#REF!","v":{"$error":"#REF!"}},{"$f":"#REF!","v":{"$error":"#REF!"}},{"$f":"#REF!","v":{"$error":"#REF!"}},{"$f":"#REF!","v":{"$error":"#REF!"}}]
[null,null,null,null,null,null,null,null,null,null,null,null,null,null,null,null,null,null,null,null,null,null,null,{"$f":"#REF!","v":{"$error":"#REF!"}},{"$f":"#REF!","v":{"$error":"#REF!"}},{"$f":"#REF!","v":{"$error":"#REF!"}},{"$f":"#REF!","v":{"$error":"#REF!"}},{"$f":"#REF!","v":{"$error":"#REF!"}},{"$f":"#REF!","v":{"$error":"#REF!"}},{"$f":"#REF!","v":{"$error":"#REF!"}},{"$f":"#REF!","v":{"$error":"#REF!"}},{"$f":"#REF!","v":{"$error":"#REF!"}}]
[null,null,null,null,null,null,null,null,null,null,null,null,null,null,null,null,null,null,null,null,null,null,null,{"$f":"#REF!","v":{"$error":"#REF!"}},{"$f":"#REF!","v":{"$error":"#REF!"}},{"$f":"#REF!","v":{"$error":"#REF!"}},{"$f":"#REF!","v":{"$error":"#REF!"}},{"$f":"#REF!","v":{"$error":"#REF!"}},{"$f":"#REF!","v":{"$error":"#REF!"}},{"$f":"#REF!","v":{"$error":"#REF!"}},{"$f":"#REF!","v":{"$error":"#REF!"}},{"$f":"#REF!","v":{"$error":"#REF!"}}]
[null,null,null,null,null,null,null,null,null,null,null,null,null,null,null,null,null,null,null,null,null,null,null,{"$f":"#REF!","v":{"$error":"#REF!"}},{"$f":"#REF!","v":{"$error":"#REF!"}},{"$f":"#REF!","v":{"$error":"#REF!"}},{"$f":"#REF!","v":{"$error":"#REF!"}},{"$f":"#REF!","v":{"$error":"#REF!"}},{"$f":"#REF!","v":{"$error":"#REF!"}},{"$f":"#REF!","v":{"$error":"#REF!"}},{"$f":"#REF!","v":{"$error":"#REF!"}},{"$f":"#REF!","v":{"$error":"#REF!"}}]
[null,null,null,null,null,null,null,null,null,null,null,null,null,null,null,null,null,null,null,null,null,null,null,{"$f":"#REF!","v":{"$error":"#REF!"}},{"$f":"#REF!","v":{"$error":"#REF!"}},{"$f":"#REF!","v":{"$error":"#REF!"}},{"$f":"#REF!","v":{"$error":"#REF!"}},{"$f":"#REF!","v":{"$error":"#REF!"}},{"$f":"#REF!","v":{"$error":"#REF!"}},{"$f":"#REF!","v":{"$error":"#REF!"}},{"$f":"#REF!","v":{"$error":"#REF!"}},{"$f":"#REF!","v":{"$error":"#REF!"}}]
[null,null,null,null,null,null,null,null,null,null,null,null,null,null,null,null,null,null,null,null,null,null,null,{"$f":"#REF!","v":{"$error":"#REF!"}},{"$f":"#REF!","v":{"$error":"#REF!"}},{"$f":"#REF!","v":{"$error":"#REF!"}},{"$f":"#REF!","v":{"$error":"#REF!"}},{"$f":"#REF!","v":{"$error":"#REF!"}},{"$f":"#REF!","v":{"$error":"#REF!"}},{"$f":"#REF!","v":{"$error":"#REF!"}},{"$f":"#REF!","v":{"$error":"#REF!"}},{"$f":"#REF!","v":{"$error":"#REF!"}}]
[null,null,null,null,null,null,null,null,null,null,null,null,null,null,null,null,null,null,null,null,null,null,null,{"$f":"#REF!","v":{"$error":"#REF!"}},{"$f":"#REF!","v":{"$error":"#REF!"}},{"$f":"#REF!","v":{"$error":"#REF!"}},{"$f":"#REF!","v":{"$error":"#REF!"}},{"$f":"#REF!","v":{"$error":"#REF!"}},{"$f":"#REF!","v":{"$error":"#REF!"}},{"$f":"#REF!","v":{"$error":"#REF!"}},{"$f":"#REF!","v":{"$error":"#REF!"}},{"$f":"#REF!","v":{"$error":"#REF!"}}]
[null,null,null,null,null,null,null,null,null,null,null,null,null,null,null,null,null,null,null,null,null,null,null,{"$f":"#REF!","v":{"$error":"#REF!"}},{"$f":"#REF!","v":{"$error":"#REF!"}},{"$f":"#REF!","v":{"$error":"#REF!"}},{"$f":"#REF!","v":{"$error":"#REF!"}},{"$f":"#REF!","v":{"$error":"#REF!"}},{"$f":"#REF!","v":{"$error":"#REF!"}},{"$f":"#REF!","v":{"$error":"#REF!"}},{"$f":"#REF!","v":{"$error":"#REF!"}},{"$f":"#REF!","v":{"$error":"#REF!"}}]
[null,null,null,null,null,null,null,null,null,null,null,null,null,null,null,null,null,null,null,null,null,null,null,{"$f":"#REF!","v":{"$error":"#REF!"}},{"$f":"#REF!","v":{"$error":"#REF!"}},{"$f":"#REF!","v":{"$error":"#REF!"}},{"$f":"#REF!","v":{"$error":"#REF!"}},{"$f":"#REF!","v":{"$error":"#REF!"}},{"$f":"#REF!","v":{"$error":"#REF!"}},{"$f":"#REF!","v":{"$error":"#REF!"}},{"$f":"#REF!","v":{"$error":"#REF!"}},{"$f":"#REF!","v":{"$error":"#REF!"}}]
[null,null,null,null,null,null,null,null,null,null,null,null,null,null,null,null,null,null,null,null,null,null,null,{"$f":"#REF!","v":{"$error":"#REF!"}},{"$f":"#REF!","v":{"$error":"#REF!"}},{"$f":"#REF!","v":{"$error":"#REF!"}},{"$f":"#REF!","v":{"$error":"#REF!"}},{"$f":"#REF!","v":{"$error":"#REF!"}},{"$f":"#REF!","v":{"$error":"#REF!"}},{"$f":"#REF!","v":{"$error":"#REF!"}},{"$f":"#REF!","v":{"$error":"#REF!"}},{"$f":"#REF!","v":{"$error":"#REF!"}}]
[null,null,null,null,null,null,null,null,null,null,null,null,null,null,null,null,null,null,null,null,null,null,null,{"$f":"#REF!","v":{"$error":"#REF!"}},{"$f":"#REF!","v":{"$error":"#REF!"}},{"$f":"#REF!","v":{"$error":"#REF!"}},{"$f":"#REF!","v":{"$error":"#REF!"}},{"$f":"#REF!","v":{"$error":"#REF!"}},{"$f":"#REF!","v":{"$error":"#REF!"}},{"$f":"#REF!","v":{"$error":"#REF!"}},{"$f":"#REF!","v":{"$error":"#REF!"}},{"$f":"#REF!","v":{"$error":"#REF!"}}]
[null,null,null,null,null,null,null,null,null,null,null,null,null,null,null,null,null,null,null,null,null,null,null,{"$f":"#REF!","v":{"$error":"#REF!"}},{"$f":"#REF!","v":{"$error":"#REF!"}},{"$f":"#REF!","v":{"$error":"#REF!"}},{"$f":"#REF!","v":{"$error":"#REF!"}},{"$f":"#REF!","v":{"$error":"#REF!"}},{"$f":"#REF!","v":{"$error":"#REF!"}},{"$f":"#REF!","v":{"$error":"#REF!"}},{"$f":"#REF!","v":{"$error":"#REF!"}},{"$f":"#REF!","v":{"$error":"#REF!"}}]
[null,null,null,null,null,null,null,null,null,null,null,null,null,null,null,null,null,null,null,null,null,null,null,{"$f":"#REF!","v":{"$error":"#REF!"}},{"$f":"#REF!","v":{"$error":"#REF!"}},{"$f":"#REF!","v":{"$error":"#REF!"}},{"$f":"#REF!","v":{"$error":"#REF!"}},{"$f":"#REF!","v":{"$error":"#REF!"}},{"$f":"#REF!","v":{"$error":"#REF!"}},{"$f":"#REF!","v":{"$error":"#REF!"}},{"$f":"#REF!","v":{"$error":"#REF!"}},{"$f":"#REF!","v":{"$error":"#REF!"}}]
[null,null,null,null,null,null,null,null,null,null,null,null,null,null,null,null,null,null,null,null,null,null,null,{"$f":"#REF!","v":{"$error":"#REF!"}},{"$f":"#REF!","v":{"$error":"#REF!"}},{"$f":"#REF!","v":{"$error":"#REF!"}},{"$f":"#REF!","v":{"$error":"#REF!"}},{"$f":"#REF!","v":{"$error":"#REF!"}},{"$f":"#REF!","v":{"$error":"#REF!"}},{"$f":"#REF!","v":{"$error":"#REF!"}},{"$f":"#REF!","v":{"$error":"#REF!"}},{"$f":"#REF!","v":{"$error":"#REF!"}}]
[null,null,null,null,null,null,null,null,null,null,null,null,null,null,null,null,null,null,null,null,null,null,null,{"$f":"#REF!","v":{"$error":"#REF!"}},{"$f":"#REF!","v":{"$error":"#REF!"}},{"$f":"#REF!","v":{"$error":"#REF!"}},{"$f":"#REF!","v":{"$error":"#REF!"}},{"$f":"#REF!","v":{"$error":"#REF!"}},{"$f":"#REF!","v":{"$error":"#REF!"}},{"$f":"#REF!","v":{"$error":"#REF!"}},{"$f":"#REF!","v":{"$error":"#REF!"}},{"$f":"#REF!","v":{"$error":"#REF!"}}]
[null,null,null,null,null,null,null,null,null,null,null,null,null,null,null,null,null,null,null,null,null,null,null,{"$f":"#REF!","v":{"$error":"#REF!"}},{"$f":"#REF!","v":{"$error":"#REF!"}},{"$f":"#REF!","v":{"$error":"#REF!"}},{"$f":"#REF!","v":{"$error":"#REF!"}},{"$f":"#REF!","v":{"$error":"#REF!"}},{"$f":"#REF!","v":{"$error":"#REF!"}},{"$f":"#REF!","v":{"$error":"#REF!"}},{"$f":"#REF!","v":{"$error":"#REF!"}},{"$f":"#REF!","v":{"$error":"#REF!"}}]
[null,null,null,null,null,null,null,null,null,null,null,null,null,null,null,null,null,null,null,null,null,null,null,{"$f":"#REF!","v":{"$error":"#REF!"}},{"$f":"#REF!","v":{"$error":"#REF!"}},{"$f":"#REF!","v":{"$error":"#REF!"}},{"$f":"#REF!","v":{"$error":"#REF!"}},{"$f":"#REF!","v":{"$error":"#REF!"}},{"$f":"#REF!","v":{"$error":"#REF!"}},{"$f":"#REF!","v":{"$error":"#REF!"}},{"$f":"#REF!","v":{"$error":"#REF!"}},{"$f":"#REF!","v":{"$error":"#REF!"}}]
[null,null,null,null,null,null,null,null,null,null,null,null,null,null,null,null,null,null,null,null,null,null,null,{"$f":"#REF!","v":{"$error":"#REF!"}},{"$f":"#REF!","v":{"$error":"#REF!"}},{"$f":"#REF!","v":{"$error":"#REF!"}},{"$f":"#REF!","v":{"$error":"#REF!"}},{"$f":"#REF!","v":{"$error":"#REF!"}},{"$f":"#REF!","v":{"$error":"#REF!"}},{"$f":"#REF!","v":{"$error":"#REF!"}},{"$f":"#REF!","v":{"$error":"#REF!"}},{"$f":"#REF!","v":{"$error":"#REF!"}}]
[null,null,null,null,null,null,null,null,null,null,null,null,null,null,null,null,null,null,null,null,null,null,null,{"$f":"#REF!","v":{"$error":"#REF!"}},{"$f":"#REF!","v":{"$error":"#REF!"}},{"$f":"#REF!","v":{"$error":"#REF!"}},{"$f":"#REF!","v":{"$error":"#REF!"}},{"$f":"#REF!","v":{"$error":"#REF!"}},{"$f":"#REF!","v":{"$error":"#REF!"}},{"$f":"#REF!","v":{"$error":"#REF!"}},{"$f":"#REF!","v":{"$error":"#REF!"}},{"$f":"#REF!","v":{"$error":"#REF!"}}]
[null,null,null,null,null,null,null,null,null,null,null,null,null,null,null,null,null,null,null,null,null,null,null,{"$f":"#REF!","v":{"$error":"#REF!"}},{"$f":"#REF!","v":{"$error":"#REF!"}},{"$f":"#REF!","v":{"$error":"#REF!"}},{"$f":"#REF!","v":{"$error":"#REF!"}},{"$f":"#REF!","v":{"$error":"#REF!"}},{"$f":"#REF!","v":{"$error":"#REF!"}},{"$f":"#REF!","v":{"$error":"#REF!"}},{"$f":"#REF!","v":{"$error":"#REF!"}},{"$f":"#REF!","v":{"$error":"#REF!"}}]
[null,null,null,null,null,null,null,null,null,null,null,null,null,null,null,null,null,null,null,null,null,null,null,{"$f":"#REF!","v":{"$error":"#REF!"}},{"$f":"#REF!","v":{"$error":"#REF!"}},{"$f":"#REF!","v":{"$error":"#REF!"}},{"$f":"#REF!","v":{"$error":"#REF!"}},{"$f":"#REF!","v":{"$error":"#REF!"}},{"$f":"#REF!","v":{"$error":"#REF!"}},{"$f":"#REF!","v":{"$error":"#REF!"}},{"$f":"#REF!","v":{"$error":"#REF!"}},{"$f":"#REF!","v":{"$error":"#REF!"}}]
[null,null,null,null,null,null,null,null,null,null,null,null,null,null,null,null,null,null,null,null,null,null,null,{"$f":"#REF!","v":{"$error":"#REF!"}},{"$f":"#REF!","v":{"$error":"#REF!"}},{"$f":"#REF!","v":{"$error":"#REF!"}},{"$f":"#REF!","v":{"$error":"#REF!"}},{"$f":"#REF!","v":{"$error":"#REF!"}},{"$f":"#REF!","v":{"$error":"#REF!"}},{"$f":"#REF!","v":{"$error":"#REF!"}},{"$f":"#REF!","v":{"$error":"#REF!"}},{"$f":"#REF!","v":{"$error":"#REF!"}}]
[null,null,null,null,null,null,null,null,null,null,null,null,null,null,null,null,null,null,null,null,null,null,null,{"$f":"#REF!","v":{"$error":"#REF!"}},{"$f":"#REF!","v":{"$error":"#REF!"}},{"$f":"#REF!","v":{"$error":"#REF!"}},{"$f":"#REF!","v":{"$error":"#REF!"}},{"$f":"#REF!","v":{"$error":"#REF!"}},{"$f":"#REF!","v":{"$error":"#REF!"}},{"$f":"#REF!","v":{"$error":"#REF!"}},{"$f":"#REF!","v":{"$error":"#REF!"}},{"$f":"#REF!","v":{"$error":"#REF!"}}]

{"sheet":"2 часть","index":1,"n_rows":27,"n_cols":14,"rows_kept":27,"cut":false,"hidden":false,"merged":[[23,13,23,20],[22,13,22,20],[20,13,20,20],[24,13,24,20],[26,13,26,20],[25,13,25,20],[21,13,21,20],[15,3,15,12],[17,3,17,12],[13,13,13,20],[16,3,16,12],[17,13,17,20],[14,13,14,20],[16,13,16,20],[13,2,13,12],[19,13,19,20],[10,13,10,20],[12,13,12,20],[15,13,15,20],[3,13,3,20],[4,13,4,20],[11,13,11,20],[18,13,18,20],[7,13,7,20],[9,13,9,20],[10,3,10,12],[8,3,8,12],[8,13,8,20],[7,3,7,12],[12,1,12,12],[9,2,9,12],[11,3,11,12],[0,0,0,20],[5,13,5,20],[3,1,3,12],[4,1,4,12],[6,2,6,12],[6,13,6,20],[2,1,2,12],[2,13,2,20],[5,2,5,12]]}
["II. Показатели финансового состояния муниципального бюджетного учреждения"]
[]
["№ п/п","Наименование показателя",null,null,null,null,null,null,null,null,null,null,null,"Сумма, тыс.руб."]
[1,"2",null,null,null,null,null,null,null,null,null,null,null,3]
[1,"Нефинансовые активы, всего:",null,null,null,null,null,null,null,null,null,null,null,8247]
[null,null,"из них:"]
[null,null,"недвижимое имущество, всего:",null,null,null,null,null,null,null,null,null,null,6387]
[null,null,null,"в том числе: "]
[null,null,null,"остаточная стоимость",null,null,null,null,null,null,null,null,null,2758]
[null,null,"особо ценное движимое имущество, всего:",null,null,null,null,null,null,null,null,null,null,633]
[null,null,null,"в том числе: "]
[null,null,null,"остаточная стоимость",null,null,null,null,null,null,null,null,null,415]
[2,"Финансовые активы, всего:",null,null,null,null,null,null,null,null,null,null,null,27.99]
[null,null,"из них:"]
[null,null,"денежные средства учреждения, всего",null,null,null,null,null,null,null,null,null,null,48.44]
[null,null,null,"в том числе: "]
[null,null,null,"денежные средства учреждения на счетах"]
[null,null,null,"денежные средства учреждения, размещенные на депозиты в кредитной организации"]
[null,null,"иные финансовые документы"]
[null,null,"дебиторская задолженность по доходам",null,null,null,null,null,null,null,null,null,null,-20.45]
[null,null,"дебиторская задолженность по расходам",null,null,null,null,null,null,null,null,null,null,0]
[3,"Обязательства, всего:",null,null,null,null,null,null,null,null,null,null,null,803.43]
[null,null,"из них:"]
[null,null,"долговые обязательства"]
[null,null,"кредиторская задолженность:",null,null,null,null,null,null,null,null,null,null,803.43]
[null,null,null,"в том числе: "]
[null,null,null,"просроченная кредиторская задолженность",null,null,null,null,null,null,null,null,null,218.87]

{"sheet":"3 часть 2017","index":2,"n_rows":57,"n_cols":11,"rows_kept":57,"cut":false,"hidden":false,"merged":[[9,1,10,1],[9,2,10,2],[22,3,23,3],[22,4,23,4],[9,4,10,4],[22,1,23,1],[22,2,23,2],[9,3,10,3],[9,5,10,5],[9,6,10,6],[9,7,10,7],[22,5,23,5],[0,0,0,9],[1,0,1,9],[3,0,6,0],[3,1,6,1],[3,2,6,2],[3,3,3,9],[5,8,5,9],[5,7,6,7],[5,5,6,5],[4,3,6,3],[4,4,4,9],[5,4,6,4],[5,6,6,6],[41,9,42,9],[37,6,38,6],[22,9,23,9],[41,4,42,4],[41,5,42,5],[41,6,42,6],[37,8,38,8],[41,7,42,7],[41,8,42,8],[22,8,23,8],[22,6,23,6],[22,7,23,7],[41,1,42,1],[41,2,42,2],[41,3,42,3],[37,1,38,1],[37,2,38,2],[37,3,38,3],[37,9,38,9],[37,4,38,4],[37,5,38,5],[37,7,38,7],[9,9,10,9],[9,8,10,8]]}
["III. Показатели по поступлениям и выплатам муниципального бюджетного (автономного) учреждения"]
["на 31 января 2017 г."]
[]
["Наименование показателя","Код строки","Код по бюджетной классификации Российской Федерации","Объем финансового обеспечения, руб. (с точностью до двух знаков после запятой - 0,00)"]
[null,null,null,"всего","в том числе:"]
[null,null,null,null,"субсидия на финансовое обеспечение выполнения муниципального задания","субсидии, предоставляемые в соответствии с абзацем вторым пункта 1 статьи 78.1 БК РФ","субсидии на осуществление капитальных вложений","средства обязательного медицинского страхования","поступления от оказания услуг (выполнения работ) на платной основе и от иной приносящей доход деятельности"]
[null,null,null,null,null,null,null,null,"всего","из них гранты"]
[1,2,3,4,5,6,7,8,9,10]
["Поступления от доходов, всего:",100,"X",{"$f":"SUM(E9:J9)","v":13556180.41},{"$f":"SUM(E10:E20)","v":12830820.41},{"$f":"SUM(F10:F20)","v":353360},{"$f":"SUM(G10:G20)","v":0},"Х",{"$f":"SUM(I11:I20)","v":372000},{"$f":"SUM(J10:J20)","v":0}]
["в том числе:",110,null,{"$f":"SUM(E10:J10)","v":0},"X","X","X","X",{"$f":"I12+I18","v":0},"X"]
["доходы от собственности",null,null,{"$f":"SUM(E11:J11)","v":0}]
["доходы от оказания услуг, работ",120,130,{"$f":"SUM(E12:J12)","v":12830820.41},12830820.41,"X","X","Х",0,0]
["доходы от оказания услуг, работ",120,130,372000,null,"X","X","Х",372000,0]
["доходы от штрафов, пеней, иных сумм принудительного изъятия",130,null,0,"X","X","X","Х",null,"X"]
["безвозмездные поступления от наднациональных организаций, правительств иностранных государств, международных финансовых организаций",140,null,0,"X","X","X","Х",null,"X"]
["иные субсидии, предоставленные из бюджета",150,180,353360,"X",353360,0,"Х","X","X"]
["иные субсидии, предоставленные из бюджета",150,180,0,"X",0,0,"Х","X","X"]
["прочие доходы",160,180,0,"X","X","X","Х",0]
["доходы от операций с активами",180,"X",0,"X","X","X","Х",0,"X"]
[null,null,null,null,null,null,null,"Х"]
["Выплаты по расходам, всего:",200,"X",{"$f":"SUM(E21:J21)","v":13556180.41},{"$f":"E22+SUM(E26:E34)","v":12830820.41},{"$f":"F22+SUM(F26:F34)","v":353360},{"$f":"G22+SUM(G26:G34)","v":0},"Х",{"$f":"I22+SUM(I26:I34)","v":372000},{"$f":"J22+SUM(J26:J34)","v":0},{"$f":"D21-D9","v":0}]
["в том числе на: выплаты персоналу всего:",210,"Х",7846983,{"$f":"SUM(E23:E25)","v":7814823},{"$f":"SUM(F23:F25)","v":32160},{"$f":"SUM(G23:G25)","v":0},"Х",{"$f":"SUM(I23:I25)","v":0},{"$f":"SUM(J23:J25)","v":0}]
["из них:",211,111,6031113,6006393,24720,null,"Х",0]
["оплата труда и начисления на выплаты по оплате труда",null,null,0]
["оплата труда и начисления на выплаты по оплате труда",null,119,1815870,1808430,7440,null,null,0]
["социальные и иные выплаты населению, всего",220,313,0,null,null,null,"Х"]
["социальные и иные выплаты населению, всего",220,321,321200,0,321200,null,"Х"]
["социальные и иные выплаты населению, всего",220,350,0,0,null,null,"Х"]
["уплату налогов, сборов и иных платежей, всего",230,851,93261,93261,null,null,"Х",0]
["уплату налогов, сборов и иных платежей, всего",230,852,0,0,null,null,"Х",0]
["уплату налогов, сборов и иных платежей, всего",230,853,10000,10000,null,null,"Х"]
["безвозмездные перечисления организациям",240,null,0,null,null,null,"Х"]
["прочие расходы (кроме расходов на закупку товаров, работ, услуг)",250,112,{"$f":"SUM(E33:J33)","v":1200},1200,null,null,"Х"]
["расходы на закупку товаров, работ, услуг, всего",260,"X",{"$f":"SUM(E34:J34)","v":5283536.41},{"$f":"SUM(E35:E36)","v":4911536.41},{"$f":"SUM(F35:F36)","v":0},{"$f":"SUM(G35:G36)","v":0},"Х",{"$f":"SUM(I35:I36)","v":372000},{"$f":"SUM(J35:J36)","v":0}]
["расходы на закупку товаров, работ, услуг, всего",260,243,{"$f":"SUM(E35:J35)","v":0},0,0,null,"Х",0]
["расходы на закупку товаров, работ, услуг, всего",260,244,{"$f":"SUM(E36:J36)","v":5283536.41},4911536.41,0,null,"Х",372000]
["Поступление финансовых активов, всего:",300,"X",{"$f":"SUM(E37:G37)+I37","v":0},{"$f":"SUM(E38:E40)","v":0},{"$f":"SUM(F38:F40)","v":0},{"$f":"SUM(G38:G40)","v":0},"Х",{"$f":"SUM(I38:I40)","v":0},{"$f":"SUM(J38:J40)","v":0}]
["из них:",310,null,0,0,0,0,"Х",0,0]
["увеличение остатков средств"]
["прочие поступления",320,null,{"$f":"SUM(E40:G40)+I40","v":0},0,0,0,"Х",0,0]
["Выбытие финансовых активов, всего",400,null,{"$f":"SUM(E41:G41)+I41","v":0},{"$f":"SUM(E42:E44)","v":0},{"$f":"SUM(F42:F44)","v":0},{"$f":"SUM(G42:G44)","v":0},"Х",{"$f":"SUM(I42:I44)","v":0},{"$f":"SUM(J42:J44)","v":0}]
["Из них:",410,null,0,0,0,0,"Х",0,0]
["уменьшение остатков средств"]
["прочие выбытия",420,null,{"$f":"SUM(E44:G44)+I44","v":0},0,0,0,"Х",0,0]
["Остаток средств на начало года",500,"X",{"$f":"SUM(E45:G45)+I45","v":75785.61},{"$f":"SUM(E46:E56)","v":37701.57},{"$f":"SUM(F46:F56)","v":0},{"$f":"SUM(G46:G56)","v":0},"Х",{"$f":"SUM(I46:I56)","v":38084.04},{"$f":"SUM(J46:J56)","v":0}]
["Остаток средств на начало года",500,111,{"$f":"SUM(E46:J46)","v":37701.57},37701.57,{"$f":"SUM(G46:L46)","v":0},null,null,0]
["Остаток средств на начало года",500,119,{"$f":"SUM(E47:J47)","v":0},0,null,null,null,0]
["Остаток средств на начало года",500,313,0]
["Остаток средств на начало года",500,321,0]
["Остаток средств на начало года",500,350,0]
["Остаток средств на начало года",500,851,0]
["Остаток средств на начало года",500,852,0]
["Остаток средств на начало года",500,853,0]
["Остаток средств на начало года",500,112,0]
["Остаток средств на начало года",500,243,0]
["Остаток средств на начало года",500,244,38084.04,0,0,null,null,38084.04]
["Остаток средств на конец года",600,"X",0,0,0,0,"Х",0,0]

{"sheet":"3 часть 2018","index":3,"n_rows":57,"n_cols":11,"rows_kept":57,"cut":false,"hidden":false,"merged":[[41,1,42,1],[41,2,42,2],[41,3,42,3],[41,4,42,4],[37,7,38,7],[37,1,38,1],[37,2,38,2],[37,3,38,3],[41,7,42,7],[41,6,42,6],[41,9,42,9],[37,8,38,8],[37,9,38,9],[41,8,42,8],[9,4,10,4],[9,5,10,5],[41,5,42,5],[37,5,38,5],[22,4,23,4],[22,5,23,5],[37,4,38,4],[37,6,38,6],[22,7,23,7],[22,8,23,8],[22,9,23,9],[22,6,23,6],[9,1,10,1],[9,2,10,2],[22,1,23,1],[22,2,23,2],[22,3,23,3],[9,3,10,3],[0,0,0,9],[1,0,1,9],[3,0,6,0],[3,1,6,1],[3,2,6,2],[3,3,3,9],[4,3,6,3],[4,4,4,9],[5,4,6,4],[5,5,6,5],[9,6,10,6],[9,7,10,7],[9,8,10,8],[9,9,10,9],[5,8,5,9],[5,6,6,6],[5,7,6,7]]}
["III. Показатели по поступлениям и выплатам муниципального бюджетного (автономного) учреждения"]
["на 01 января 2018  г."]
[]
["Наименование показателя","Код строки","Код по бюджетной классификации Российской Федерации","Объем финансового обеспечения, руб. (с точностью до двух знаков после запятой - 0,00)"]
[null,null,null,"всего","в том числе:"]
[null,null,null,null,"субсидия на финансовое обеспечение выполнения муниципального задания","субсидии, предоставляемые в соответствии с абзацем вторым пункта 1 статьи 78.1 БК РФ","субсидии на осуществление капитальных вложений","средства обязательного медицинского страхования","поступления от оказания услуг (выполнения работ) на платной основе и от иной приносящей доход деятельности"]
[null,null,null,null,null,null,null,null,"всего","из них гранты"]
[1,2,3,4,5,6,7,8,9,10]
["Поступления от доходов, всего:",100,"X",{"$f":"SUM(E9:J9)","v":14067520},{"$f":"SUM(E10:E20)","v":13342160},{"$f":"SUM(F10:F20)","v":353360},{"$f":"SUM(G10:G20)","v":0},"Х",{"$f":"SUM(I11:I20)","v":372000},{"$f":"SUM(J10:J20)","v":0}]
["в том числе:",110,null,{"$f":"SUM(E10:J10)","v":0},"X","X","X","X",{"$f":"I12+I18","v":0},"X"]
["доходы от собственности",null,null,{"$f":"SUM(E11:J11)","v":0}]
["доходы от оказания услуг, работ",120,130,{"$f":"SUM(E12:J12)","v":13342160},13342160,"X","X","Х",0,0]
["доходы от оказания услуг, работ",120,130,372000,null,"X","X","Х",372000,0]
["доходы от штрафов, пеней, иных сумм принудительного изъятия",130,null,0,"X","X","X","Х",null,"X"]
["безвозмездные поступления от наднациональных организаций, правительств иностранных государств, международных финансовых организаций",140,null,0,"X","X","X","Х",null,"X"]
["иные субсидии, предоставленные из бюджета",150,180,353360,"X",353360,0,"Х","X","X"]
["иные субсидии, предоставленные из бюджета",150,180,0,"X",0,0,"Х","X","X"]
["прочие доходы",160,180,0,"X","X","X","Х",0]
["доходы от операций с активами",180,"X",0,"X","X","X","Х",0,"X"]
[null,null,null,null,null,null,null,"Х"]
["Выплаты по расходам, всего:",200,"X",{"$f":"SUM(E21:J21)","v":14067520},{"$f":"E22+SUM(E26:E34)","v":13342160},{"$f":"F22+SUM(F26:F34)","v":353360},{"$f":"G22+SUM(G26:G34)","v":0},"Х",{"$f":"I22+SUM(I26:I34)","v":372000},{"$f":"J22+SUM(J26:J34)","v":0},{"$f":"D21-D9","v":0}]
["в том числе на: выплаты персоналу всего:",210,"Х",8533960,{"$f":"SUM(E23:E25)","v":8501800},{"$f":"SUM(F23:F25)","v":32160},{"$f":"SUM(G23:G25)","v":0},"Х",{"$f":"SUM(I23:I25)","v":0},{"$f":"SUM(J23:J25)","v":0}]
["из них:",211,111,6566080,6541360,24720,null,"Х"]
["оплата труда и начисления на выплаты по оплате труда",null,null,0]
["оплата труда и начисления на выплаты по оплате труда",null,119,1967880,1960440,7440]
["социальные и иные выплаты населению, всего",220,313,0,null,null,null,"Х"]
["социальные и иные выплаты населению, всего",220,321,321200,0,321200,null,"Х"]
["социальные и иные выплаты населению, всего",220,350,0,null,null,null,"Х"]
["уплату налогов, сборов и иных платежей, всего",230,851,48000,48000,null,null,"Х"]
["уплату налогов, сборов и иных платежей, всего",230,852,0,0,null,null,"Х"]
["уплату налогов, сборов и иных платежей, всего",230,853,0,null,null,null,"Х"]
["безвозмездные перечисления организациям",240,null,0,null,null,null,"Х"]
["прочие расходы (кроме расходов на закупку товаров, работ, услуг)",250,112,{"$f":"SUM(E33:J33)","v":0},0,null,null,"Х"]
["расходы на закупку товаров, работ, услуг, всего",260,"X",{"$f":"SUM(E34:J34)","v":5164360},{"$f":"SUM(E35:E36)","v":4792360},{"$f":"SUM(F35:F36)","v":0},{"$f":"SUM(G35:G36)","v":0},"Х",{"$f":"SUM(I35:I36)","v":372000},{"$f":"SUM(J35:J36)","v":0}]
["расходы на закупку товаров, работ, услуг, всего",260,243,{"$f":"SUM(E35:J35)","v":0},null,0,null,"Х"]
["расходы на закупку товаров, работ, услуг, всего",260,244,{"$f":"SUM(E36:J36)","v":5164360},4792360,null,null,"Х",372000]
["Поступление финансовых активов, всего:",300,"X",{"$f":"SUM(E37:G37)+I37","v":0},{"$f":"SUM(E38:E40)","v":0},{"$f":"SUM(F38:F40)","v":0},{"$f":"SUM(G38:G40)","v":0},"Х",{"$f":"SUM(I38:I40)","v":0},{"$f":"SUM(J38:J40)","v":0}]
["из них:",310,null,0,0,0,0,"Х",0,0]
["увеличение остатков средств"]
["прочие поступления",320,null,{"$f":"SUM(E40:G40)+I40","v":0},0,0,0,"Х",0,0]
["Выбытие финансовых активов, всего",400,null,{"$f":"SUM(E41:G41)+I41","v":0},{"$f":"SUM(E42:E44)","v":0},{"$f":"SUM(F42:F44)","v":0},{"$f":"SUM(G42:G44)","v":0},"Х",{"$f":"SUM(I42:I44)","v":0},{"$f":"SUM(J42:J44)","v":0}]
["Из них:",410,null,0,0,0,0,"Х",0,0]
["уменьшение остатков средств"]
["прочие выбытия",420,null,{"$f":"SUM(E44:G44)+I44","v":0},0,0,0,"Х",0,0]
["Остаток средств на начало года",500,"X",{"$f":"SUM(E45:G45)+I45","v":0},{"$f":"SUM(E46:E56)","v":0},{"$f":"SUM(F46:F56)","v":0},{"$f":"SUM(G46:G56)","v":0},"Х",{"$f":"SUM(I46:I56)","v":0},{"$f":"SUM(J46:J56)","v":0}]
["Остаток средств на начало года",500,111,{"$f":"SUM(E46:J46)","v":0}]
["Остаток средств на начало года",500,119,{"$f":"SUM(E47:J47)","v":0}]
["Остаток средств на начало года",500,313,0]
["Остаток средств на начало года",500,321,0]
["Остаток средств на начало года",500,350,0]
["Остаток средств на начало года",500,851,0]
["Остаток средств на начало года",500,852,0]
["Остаток средств на начало года",500,853,0]
["Остаток средств на начало года",500,112,0]
["Остаток средств на начало года",500,243,0]
["Остаток средств на начало года",500,244,0]
["Остаток средств на конец года",600,"X",0,0,0,0,"Х",0,0]

{"sheet":"3 часть 2019","index":4,"n_rows":57,"n_cols":11,"rows_kept":57,"cut":false,"hidden":false,"merged":[[41,1,42,1],[41,2,42,2],[41,3,42,3],[41,4,42,4],[37,7,38,7],[37,1,38,1],[37,2,38,2],[37,3,38,3],[41,7,42,7],[41,6,42,6],[41,9,42,9],[37,8,38,8],[37,9,38,9],[41,8,42,8],[9,4,10,4],[9,5,10,5],[41,5,42,5],[37,5,38,5],[22,4,23,4],[22,5,23,5],[37,4,38,4],[37,6,38,6],[22,7,23,7],[22,8,23,8],[22,9,23,9],[22,6,23,6],[9,1,10,1],[9,2,10,2],[22,1,23,1],[22,2,23,2],[22,3,23,3],[9,3,10,3],[0,0,0,9],[1,0,1,9],[3,0,6,0],[3,1,6,1],[3,2,6,2],[3,3,3,9],[4,3,6,3],[4,4,4,9],[5,4,6,4],[5,5,6,5],[9,6,10,6],[9,7,10,7],[9,8,10,8],[9,9,10,9],[5,8,5,9],[5,6,6,6],[5,7,6,7]]}
["III. Показатели по поступлениям и выплатам муниципального бюджетного (автономного) учреждения"]
["на 1 января 2019 г."]
[]
["Наименование показателя","Код строки","Код по бюджетной классификации Российской Федерации","Объем финансового обеспечения, руб. (с точностью до двух знаков после запятой - 0,00)"]
[null,null,null,"всего","в том числе:"]
[null,null,null,null,"субсидия на финансовое обеспечение выполнения муниципального задания","субсидии, предоставляемые в соответствии с абзацем вторым пункта 1 статьи 78.1 БК РФ","субсидии на осуществление капитальных вложений","средства обязательного медицинского страхования","поступления от оказания услуг (выполнения работ) на платной основе и от иной приносящей доход деятельности"]
[null,null,null,null,null,null,null,null,"всего","из них гранты"]
[1,2,3,4,5,6,7,8,9,10]
["Поступления от доходов, всего:",100,"X",{"$f":"SUM(E9:J9)","v":15528370},{"$f":"SUM(E10:E20)","v":13803010},{"$f":"SUM(F10:F20)","v":1353360},{"$f":"SUM(G10:G20)","v":0},"Х",{"$f":"SUM(I11:I20)","v":372000},{"$f":"SUM(J10:J20)","v":0}]
["в том числе:",110,null,{"$f":"SUM(E10:J10)","v":0},"X","X","X","X",{"$f":"I12+I18","v":0},"X"]
["доходы от собственности",null,null,{"$f":"SUM(E11:J11)","v":0}]
["доходы от оказания услуг, работ",120,130,{"$f":"SUM(E12:J12)","v":13803010},13803010,"X","X","Х",0,0]
["доходы от оказания услуг, работ",120,130,372000,null,"X","X","Х",372000,0]
["доходы от штрафов, пеней, иных сумм принудительного изъятия",130,null,0,"X","X","X","Х",null,"X"]
["безвозмездные поступления от наднациональных организаций, правительств иностранных государств, международных финансовых организаций",140,null,0,"X","X","X","Х",null,"X"]
["иные субсидии, предоставленные из бюджета",150,180,1353360,"X",1353360,0,"Х","X","X"]
["иные субсидии, предоставленные из бюджета",150,180,0,"X",0,0,"Х","X","X"]
["прочие доходы",160,180,0,"X","X","X","Х",0]
["доходы от операций с активами",180,"X",0,"X","X","X","Х",0,"X"]
[null,null,null,null,null,null,null,"Х"]
["Выплаты по расходам, всего:",200,"X",{"$f":"SUM(E21:J21)","v":15528370},{"$f":"E22+SUM(E26:E34)","v":13803010},{"$f":"F22+SUM(F26:F34)","v":1353360},{"$f":"G22+SUM(G26:G34)","v":0},"Х",{"$f":"I22+SUM(I26:I34)","v":372000},{"$f":"J22+SUM(J26:J34)","v":0},{"$f":"D21-D9","v":0}]
["в том числе на: выплаты персоналу всего:",210,"Х",8913870,{"$f":"SUM(E23:E25)","v":8881710},{"$f":"SUM(F23:F25)","v":32160},{"$f":"SUM(G23:G25)","v":0},"Х",{"$f":"SUM(I23:I25)","v":0},{"$f":"SUM(J23:J25)","v":0}]
["из них:",211,111,6830730,6806010,24720,null,"Х"]
["оплата труда и начисления на выплаты по оплате труда",null,null,0]
["оплата труда и начисления на выплаты по оплате труда",null,119,2083140,2075700,7440]
["социальные и иные выплаты населению, всего",220,313,0,null,null,null,"Х"]
["социальные и иные выплаты населению, всего",220,321,321200,0,321200,null,"Х"]
["социальные и иные выплаты населению, всего",220,350,0,null,null,null,"Х"]
["уплату налогов, сборов и иных платежей, всего",230,851,48000,48000,null,null,"Х"]
["уплату налогов, сборов и иных платежей, всего",230,852,0,0,null,null,"Х"]
["уплату налогов, сборов и иных платежей, всего",230,853,0,null,null,null,"Х"]
["безвозмездные перечисления организациям",240,null,0,null,null,null,"Х"]
["прочие расходы (кроме расходов на закупку товаров, работ, услуг)",250,112,{"$f":"SUM(E33:J33)","v":0},0,null,null,"Х"]
["расходы на закупку товаров, работ, услуг, всего",260,"X",{"$f":"SUM(E34:J34)","v":6245300},{"$f":"SUM(E35:E36)","v":4873300},{"$f":"SUM(F35:F36)","v":1000000},{"$f":"SUM(G35:G36)","v":0},"Х",{"$f":"SUM(I35:I36)","v":372000},{"$f":"SUM(J35:J36)","v":0}]
["расходы на закупку товаров, работ, услуг, всего",260,243,{"$f":"SUM(E35:J35)","v":0},null,0,null,"Х"]
["расходы на закупку товаров, работ, услуг, всего",260,244,{"$f":"SUM(E36:J36)","v":6245300},4873300,1000000,null,"Х",372000]
["Поступление финансовых активов, всего:",300,"X",{"$f":"SUM(E37:G37)+I37","v":0},{"$f":"SUM(E38:E40)","v":0},{"$f":"SUM(F38:F40)","v":0},{"$f":"SUM(G38:G40)","v":0},"Х",{"$f":"SUM(I38:I40)","v":0},{"$f":"SUM(J38:J40)","v":0}]
["из них:",310,null,0,0,0,0,"Х",0,0]
["увеличение остатков средств"]
["прочие поступления",320,null,{"$f":"SUM(E40:G40)+I40","v":0},0,0,0,"Х",0,0]
["Выбытие финансовых активов, всего",400,null,{"$f":"SUM(E41:G41)+I41","v":0},{"$f":"SUM(E42:E44)","v":0},{"$f":"SUM(F42:F44)","v":0},{"$f":"SUM(G42:G44)","v":0},"Х",{"$f":"SUM(I42:I44)","v":0},{"$f":"SUM(J42:J44)","v":0}]
["Из них:",410,null,0,0,0,0,"Х",0,0]
["уменьшение остатков средств"]
["прочие выбытия",420,null,{"$f":"SUM(E44:G44)+I44","v":0},0,0,0,"Х",0,0]
["Остаток средств на начало года",500,"X",{"$f":"SUM(E45:G45)+I45","v":0},{"$f":"SUM(E46:E56)","v":0},{"$f":"SUM(F46:F56)","v":0},{"$f":"SUM(G46:G56)","v":0},"Х",{"$f":"SUM(I46:I56)","v":0},{"$f":"SUM(J46:J56)","v":0}]
["Остаток средств на начало года",500,111,{"$f":"SUM(E46:J46)","v":0}]
["Остаток средств на начало года",500,119,{"$f":"SUM(E47:J47)","v":0}]
["Остаток средств на начало года",500,313,0]
["Остаток средств на начало года",500,321,0]
["Остаток средств на начало года",500,350,0]
["Остаток средств на начало года",500,851,0]
["Остаток средств на начало года",500,852,0]
["Остаток средств на начало года",500,853,0]
["Остаток средств на начало года",500,112,0]
["Остаток средств на начало года",500,243,0]
["Остаток средств на начало года",500,244,0]
["Остаток средств на конец года",600,"X",0,0,0,0,"Х",0,0]

{"sheet":"4 часть","index":5,"n_rows":13,"n_cols":12,"rows_kept":13,"cut":false,"hidden":false,"merged":[[0,0,0,11],[1,0,1,11],[2,0,2,11],[4,0,8,0],[4,1,8,1],[4,2,8,2],[4,3,4,11],[5,3,6,5],[5,6,5,11],[6,6,6,8],[6,9,6,11],[7,3,8,3],[7,6,8,6],[7,9,8,9]]}
["IV. Показатели выплат по расходам на закупку товаров, работ, услуг "]
["муниципального бюджетного (автономного) учреждения"]
["на 31 января 2017 г."]
[]
["Наименование показателя","Код строки","Год начала закупки","Сумма выплат по расходам на закупку товаров, работ и услуг, руб. (с точностью до двух знаков после запятой - 0,00)"]
[null,null,null,"всего на закупки",null,null,"в том числе:"]
[null,null,null,null,null,null,"в соответствии с Федеральным законом от 5 апреля 2013 г. N 44-ФЗ \"О контрактной системе в сфере закупок товаров, работ, услуг для обеспечения государственных и муниципальных нужд\"",null,null,"в соответствии с Федеральным законом от 18 июля 2011 г. N 223-ФЗ \"О закупках товаров, работ, услуг отдельными видами юридических лиц\""]
[null,null,null,"на 2017 г. очередной финансовый год","на 2018 г. ","на 2019 г. ","на 2017 г. очередной финансовый год","на 2018 г. ","на 2019 г. ","на 2017 г. очередной финансовый год","на 2018 г. ","на 2019 г. "]
[null,null,null,null,"1-ый год планового периода","2-ой год планового периода",null,"1-ый год планового периода","2-ой год планового периода",null,"1-ый год планового периода","2-ой год планового периода"]
[1,2,3,4,5,6,7,8,9,10,11,12]
["Выплаты по расходам на закупку товаров, работ, услуг всего:","0001","X",{"$f":"SUM(G11,J11)","v":5321620.45},{"$f":"SUM(E12,E13)","v":5164360},{"$f":"SUM(F12,F13)","v":6245300},{"$f":"'3 часть 2017'!D56+'3 часть 2017'!D55+'3 часть 2017'!D34","v":5321620.45},{"$f":"'3 часть 2018'!D34","v":5164360},{"$f":"'3 часть 2019'!D34","v":6245300},{"$f":"SUM(J12,J13)","v":0},{"$f":"SUM(K12,K13)","v":0},{"$f":"SUM(L12,L13)","v":0}]
["в том числе: на оплату контрактов заключенных до начала очередного финансового года:",1001,"X",{"$f":"SUM(G12,J12)","v":3023426.73},{"$f":"SUM(H12,K12)","v":1224594.05},{"$f":"SUM(I12,L12)","v":1224594.05},3023426.73,1224594.05,1224594.05,0,0,0]
["на закупку товаров работ, услуг по году начала закупки:",2001,2017,{"$f":"SUM(G13,J13)","v":2298193.7200000002},{"$f":"SUM(H13,K13)","v":3939765.95},{"$f":"SUM(I13,L13)","v":5020705.95},{"$f":"G11-G12","v":2298193.7200000002},{"$f":"H11-H12","v":3939765.95},{"$f":"I11-I12","v":5020705.95},0,0,0]

{"sheet":"5 часть","index":6,"n_rows":18,"n_cols":4,"rows_kept":18,"cut":false,"hidden":false,"merged":[[9,2,10,2],[9,3,10,3],[0,0,0,2]]}
["V. Справочная информация"]
[]
["Наименование показателя","Код строки","Сумма (тыс. руб.)"]
[1,2,3]
["Объем публичных обязательств, всего:",10]
["Объем бюджетных инвестиций (в части переданных полномочий муниципального заказчика в соответствии с Бюджетным кодексом Российской Федерации), всего:",20]
["Объем средств, поступивших во временное распоряжение, всего:",30]
[]
[]
[null,null,null,"Лаврова О.В."]
["Руководитель финансово-экономической  службы "]
[null,null,"(подпись)","(расшифровка подписи)"]
["Главный бухгалтер  ",null,null,"Зайцева И.А."]
[null,null,"(подпись)","(расшифровка подписи)"]
["Исполнитель экономист          ",null,null,"Байкина С.М."]
["(должность)",null,"(подпись)","(расшифровка подписи)"]
["Тел. ______________"]
["\"31\" января 2017 г. "]